BEGIN:VCALENDAR
VERSION:2.0
PRODID:-//Facelift Massage - Yuri Esperson - ECPv4.5.1//NONSGML v1.0//EN
CALSCALE:GREGORIAN
METHOD:PUBLISH
X-WR-CALNAME:Facelift Massage - Yuri Esperson
X-ORIGINAL-URL:http://faceliftmassage.net
X-WR-CALDESC:Events for Facelift Massage - Yuri Esperson
BEGIN:VEVENT
DTSTART;TZID=America/New_York:20181013T100000
DTEND;TZID=America/New_York:20181014T180000
DTSTAMP:20260421T094507
CREATED:20180805T213043Z
LAST-MODIFIED:20180805T213043Z
UID:656-1539424800-1539540000@faceliftmassage.net
SUMMARY:Face Lift Massage (2nd weekend)
DESCRIPTION:
URL:http://faceliftmassage.net/event/face-lift-massage-2nd-weekend/
LOCATION:151 W 26 Street \, New York\, NY\, 10001\, United States
END:VEVENT
END:VCALENDAR