BEGIN:VCALENDAR
VERSION:2.0
PRODID:-//Facelift Massage - Yuri Esperson - ECPv4.5.1//NONSGML v1.0//EN
CALSCALE:GREGORIAN
METHOD:PUBLISH
X-WR-CALNAME:Facelift Massage - Yuri Esperson
X-ORIGINAL-URL:http://faceliftmassage.net
X-WR-CALDESC:Events for Facelift Massage - Yuri Esperson
BEGIN:VEVENT
DTSTART;VALUE=DATE:20181006
DTEND;VALUE=DATE:20181007
DTSTAMP:20260421T080731
CREATED:20170510T234644Z
LAST-MODIFIED:20180805T221142Z
UID:631-1538784000-1538956799@faceliftmassage.net
SUMMARY:Natural Face Lift Massage (1st weekend)
DESCRIPTION:To sign up click this link
URL:http://faceliftmassage.net/event/natural-face-lift-massage/
LOCATION:151 W 26 Street \, New York\, NY\, 10001\, United States
CATEGORIES:Seminars
END:VEVENT
END:VCALENDAR